Workbook

Sheet Seznam dvojic 
B1: přihlášení
B3: příjmení | C3: jméno | D3: skupina
A4: 1 | B4: Fulka
A6: 2
A8: 3
A10: 4
A12: 5
A14: 6
A16: 7
A18: 8
A20: 9
A22: 10
A24: 11
A26: 12
A28: 13
... A34: 16

Sheet skupiny
A2: A - Chlapci | C2: =B4 -> Kozlíková Kateřina | D2: =B6 -> Bludský Marek | E2: =B8 -> Osvald Mia | F2: =B10 -> Sapák Lukáš | G2: počet bodů | H2: pořadí
A4: 1 | B4: Kozlíková Kateřina | C4: x
A6: 2 | B6: Bludský Marek | D6: x
A8: 3 | B8: Osvald Mia | E8: x
A10: 4 | B10: Sapák Lukáš | F10: x
A12: při rovnosti počtu bodů o pořadí ve skupině rozhoduje vzájemný zápas, následně skóre, následně vyšší počet her..
A14: B - Chlapci | C14: =B16 -> Jerglová Kristýna | D14: =B18 -> Šeda Dominik | E14: =B20 -> Čihák Vojtěch | F14: =B22 -> Šilhanová Karolína | G14: počet bodů | H14: pořadí
A16: 1 | B16: Jerglová Kristýna | C16: x
A18: 2 | B18: Šeda Dominik | D18: x
A20: 3 | B20: Čihák Vojtěch | E20: x
A22: 4 | B22: Šilhanová Karolína | F22: x
A24: při rovnosti počtu bodů o pořadí ve skupině rozhoduje vzájemný zápas, následně skóre, následně vyšší počet her..
A26: C - Chlapci | C26: =B28 -> Winzig Laura | D26: =B30 -> Havlena Tomáš | E26: =B32 -> Doleček Stefan | F26: =B34 -> Marek Robin | G26: počet bodů | H26: pořadí
A28: 1 | B28: Winzig Laura | C28: x
A30: 2 | B30: Havlena Tomáš | D30: x
A32: 3 | B32: Doleček Stefan | E32: x
A34: 4 | B34: Marek Robin | F34: x
A36: při rovnosti počtu bodů o pořadí ve skupině rozhoduje vzájemný zápas, následně skóre, následně vyšší počet her..
A40: Pravidla babytenis: • se hraje se od stavu 2:2 na celý set za stavu 6:6 tiebreak • Hraje se s výhodami • Hrajeme pravidlo NO LET – bez opakujícího se podání • Hráči dodržují fair play • Děti si počítají zápasy samostatně – bude probíhat kontrola od asistentů rozhodčí • Prosím sledujte pořadí zápasů • po dohrání skupin hrajeme vyřazovacího pavouka • Možnost rozehrávky 8:00-8:25

Sheet List1

Sheet pořadí zápasů
B1: skupina | C1: zápas | F1: dvorec | G1: Čas | H1: výsledek
A2: 1. | B2: A | C2: 2-1 | D2: =skupiny!B6 -> Bludský Marek | E2: =skupiny!B4 -> Kozlíková Kateřina | F2: 1 | G2: 0.35416667
A4: 2. | B4: A | C4: 3-4 | D4: =skupiny!B8 -> Osvald Mia | E4: =skupiny!B10 -> Sapák Lukáš | F4: 2 | G4: 1.3541667
A6: 3. | B6: B | C6: 2-1 | D6: =skupiny!B18 -> Šeda Dominik | E6: =skupiny!B16 -> Jerglová Kristýna | F6: 3 | G6: 2.3541667
A8: 4. | B8: B | C8: 3-4 | D8: =skupiny!B20 -> Čihák Vojtěch | E8: =skupiny!B22 -> Šilhanová Karolína | F8: 4 | G8: 3.3541667
A10: 5. | B10: C | C10: 2-1 | D10: =skupiny!B30 -> Havlena Tomáš | E10: =skupiny!B28 -> Winzig Laura | F10: 5 | G10: 4.3541667
A12: 6. | B12: C | C12: 3-4 | D12: =skupiny!B32 -> Doleček Stefan | E12: =skupiny!B34 -> Marek Robin | F12: 1 | G12: 0.375
A15: 14.
B16: skupina | C16: zápas | F16: dvorec | G16: Čas | H16: výsledek
A17: 15. | B17: A | C17: 1-3 | D17: =E2 -> Kozlíková Kateřina | E17: =D4 -> Osvald Mia | F17: 2
A19: 16. | B19: A | C19: 2-4 | D19: =D2 -> Bludský Marek | E19: =E4 -> Sapák Lukáš | F19: 3
A21: 17. | B21: B | C21: 1-3 | D21: =E6 -> Jerglová Kristýna | E21: =D8 -> Čihák Vojtěch | F21: 4
A23: 18. | B23: B | C23: 2-4 | D23: =D6 -> Šeda Dominik | E23: =E8 -> Šilhanová Karolína | F23: 5
A25: 19. | B25: C | C25: 1-3 | D25: =E10 -> Winzig Laura | E25: =D12 -> Doleček Stefan | F25: 1
A27: 20. | B27: C | C27: 2-4 | D27: =skupiny!B30 -> Havlena Tomáš | E27: =E12 -> Marek Robin | F27: 2
A29: 21.
A31: 22.
A33: 23.
A35: 24. | B35: skupina | C35: zápas | D35: dvojice | E35: dvojice | F35: dvorec | G35: Čas | H35: výsledek
B36: A | C36: 4-1 | D36: =E19 -> Sapák Lukáš | E36: =D17 -> Kozlíková Kateřina | F36: 3
A37: 25.
B38: A | C38: 2-3 | D38: =D19 -> Bludský Marek | E38: =E17 -> Osvald Mia | F38: 4
A39: 26.
B40: B | C40: 4-1 | D40: Provazník Tadeáš | E40: =D21 -> Jerglová Kristýna | F40: 5
A42: 27. | B42: B | C42: 2-3 | D42: =E23 -> Šilhanová Karolína | E42: =E21 -> Čihák Vojtěch | F42: 1
A44: 28. | B44: C | C44: 4-1 | D44: =E27 -> Marek Robin | E44: =D25 -> Winzig Laura | F44: 2
A46: 29. | B46: C | C46: 2-3 | D46: =D27 -> Havlena Tomáš | E46: =E25 -> Doleček Stefan | F46: 3
A48: 30.
A50: 31.
A52: 32.
A54: 33.
A56: 34.
A59: 35.
A61: 36.
A63: 37.
A65: 38.
A67: 39.
A69: 40.
A71: 41.
... A88: 49.

Sheet Pavouk - chlapci
B2: A1
B10: (A,B,C)3
B18: B2
B26: A2
B34: C1
B42: (A,B,C)3
B50: C2
B58: B1

Sheet  
